BEGIN:VCALENDAR
PRODID:-//eluceo/ical//2.0/EN
VERSION:2.0
CALSCALE:GREGORIAN
BEGIN:VEVENT
UID:db673499b085b583ab2307331abed707
DTSTAMP:20260420T063136Z
SUMMARY:Vorbereitungssitzung der AGs Konformitätsbewertung & Akkreditierun
 g und Produktsicherheit & Marktüberwachung
DESCRIPTION:
URL:https://2021.gpqi.org/termine-details/preparatory-meeting-for-the-wgs-c
 onformity-assessment-and-accreditation-product-safety-and-market-surveilla
 nce.html
DTSTART:20210930T090000
DTEND:20210930T110000
LOCATION:
END:VEVENT
BEGIN:VTIMEZONE
TZID:Europe/Berlin
BEGIN:DAYLIGHT
DTSTART:20210930T090000
TZNAME:CEST
TZOFFSETTO:+0200
TZOFFSETFROM:+0200
END:DAYLIGHT
END:VTIMEZONE
END:VCALENDAR
