BEGIN:VCALENDAR
PRODID:-//eluceo/ical//2.0/EN
VERSION:2.0
CALSCALE:GREGORIAN
BEGIN:VEVENT
UID:dd8ab7cced614ef8251d0ed69f176538
DTSTAMP:20260422T014044Z
SUMMARY:Workshop on The Global Production Language – Next Level of Intell
 igent Production
DESCRIPTION:
URL:https://2021.gpqi.org/events_details/workshop-on-the-global-production-
 language-next-level-of-intelligent-production-2.html
DTSTART:20220316T143000
DTEND:20220316T163000
LOCATION:Online\, 08:30-10:30 (CET) / 14:30-16:30 (WIB)
END:VEVENT
BEGIN:VTIMEZONE
TZID:Europe/Berlin
BEGIN:STANDARD
DTSTART:20220316T143000
TZNAME:CET
TZOFFSETTO:+0100
TZOFFSETFROM:+0100
END:STANDARD
END:VTIMEZONE
END:VCALENDAR
