BEGIN:VCALENDAR
PRODID:-//eluceo/ical//2.0/EN
VERSION:2.0
CALSCALE:GREGORIAN
BEGIN:VEVENT
UID:5edfa419a1cde34a495483f2e5453fc0
DTSTAMP:20260424T095013Z
SUMMARY:Virtuelle Stakeholderkonsultation zur Deutsch-Indischen AG Qualitä
 tsinfrastruktur
DESCRIPTION:Virtuelle Konsultation der deutschen Stakeholder zur Abstimmung
  der Themen und Prioritäten für den neuen Arbeitsplan der Deutsch-Indisc
 hen Arbeitsgruppe Qualitätsinfrastruktur.
URL:https://2021.gpqi.org/events_details/virtuelle-stakeholderkonsultation-
 zur-deu-ind-ag-qualit%C3%A4tsinfrastruktur-kopie.html?cid=2978
DTSTART:20210629T100000
DTEND:20210629T123000
LOCATION:Virtuelle Sitzung
END:VEVENT
BEGIN:VTIMEZONE
TZID:Europe/Berlin
BEGIN:DAYLIGHT
DTSTART:20210629T100000
TZNAME:CEST
TZOFFSETTO:+0200
TZOFFSETFROM:+0200
END:DAYLIGHT
END:VTIMEZONE
END:VCALENDAR
