BEGIN:VCALENDAR
PRODID:-//eluceo/ical//2.0/EN
VERSION:2.0
CALSCALE:GREGORIAN
BEGIN:VEVENT
UID:f4b529087a458725965c75b75356098e
DTSTAMP:20260420T085128Z
SUMMARY:Preparatory Meeting for the Annual Meetings of the German-Brazilian
  and the German-Mexican Working Group (WG) Quality Infrastructure
DESCRIPTION:On 18 June\, stakeholders of the German industry and QI landsca
 pe will have the opportunity to discuss future cooperation topics for the 
 bilateral dialogues with Brazil and Mexico.
URL:https://2021.gpqi.org/events_details/preparatory-meeting-for-the-annual
 -meetings-of-the-german-brazilian-and-the-german-mexican-working-group-wg-
 quality-infrastructu.html
DTSTART:20190618T000000
DTEND:20190618T235959
LOCATION:Auditorium\, Federal Ministry for Economic Affairs and Energy\, Be
 rlin
END:VEVENT
BEGIN:VTIMEZONE
TZID:Europe/Berlin
BEGIN:DAYLIGHT
DTSTART:20190618T000000
TZNAME:CEST
TZOFFSETTO:+0200
TZOFFSETFROM:+0200
END:DAYLIGHT
END:VTIMEZONE
END:VCALENDAR
