BEGIN:VCALENDAR
PRODID:-//eluceo/ical//2.0/EN
VERSION:2.0
CALSCALE:GREGORIAN
BEGIN:VEVENT
UID:e9db451ce32e919c15fa0b5557dcad7a
DTSTAMP:20260420T060827Z
SUMMARY:Annual Meeting of the Sino-German Working Group Accreditation and C
 onformity Assessment
DESCRIPTION:
URL:https://2021.gpqi.org/events_details/annual-meeting-wgaca-2021.html
DTSTART:20211117T000000
DTEND:20211117T235959
LOCATION:Online
END:VEVENT
BEGIN:VTIMEZONE
TZID:Europe/Berlin
BEGIN:STANDARD
DTSTART:20211117T000000
TZNAME:CET
TZOFFSETTO:+0100
TZOFFSETFROM:+0100
END:STANDARD
END:VTIMEZONE
END:VCALENDAR
