BEGIN:VCALENDAR
PRODID:-//eluceo/ical//2.0/EN
VERSION:2.0
CALSCALE:GREGORIAN
BEGIN:VEVENT
UID:3fc8c686c457f928acc78f8ff3b65b18
DTSTAMP:20260422T165605Z
SUMMARY:Annual Meeting of the German-Mexican Working Group Quality Infrastr
 ucture
DESCRIPTION:The Annual Meeting of the German-Mexican Working Group Quality 
 Infrastructure will take place virtually on Wednesday 16 December from 15:
 00 to 17:00 hrs. [Berlin time] / 08:00 to 10:00 hrs. [Mexico City time]. P
 lease\, register here in order to participate on the Working Group Meeting
  that will determine the Work Plan 2021.
URL:https://2021.gpqi.org/events_details/annual-meeting-of-the-german-mexic
 an-working-group-quality-infrastructure-223.html
DTSTART:20201216T000000
DTEND:20201216T235959
LOCATION:Online
END:VEVENT
BEGIN:VTIMEZONE
TZID:Europe/Berlin
BEGIN:STANDARD
DTSTART:20201216T000000
TZNAME:CET
TZOFFSETTO:+0100
TZOFFSETFROM:+0100
END:STANDARD
END:VTIMEZONE
END:VCALENDAR
